BEGIN:VCALENDAR
VERSION:2.0
PRODID:-//Cookham Arts Club - ECPv6.15.20//NONSGML v1.0//EN
CALSCALE:GREGORIAN
METHOD:PUBLISH
X-WR-CALNAME:Cookham Arts Club
X-ORIGINAL-URL:https://cookhamartsclub.com
X-WR-CALDESC:Events for Cookham Arts Club
REFRESH-INTERVAL;VALUE=DURATION:PT1H
X-Robots-Tag:noindex
X-PUBLISHED-TTL:PT1H
BEGIN:VTIMEZONE
TZID:Europe/London
BEGIN:DAYLIGHT
TZOFFSETFROM:+0000
TZOFFSETTO:+0100
TZNAME:BST
DTSTART:20220327T010000
END:DAYLIGHT
BEGIN:STANDARD
TZOFFSETFROM:+0100
TZOFFSETTO:+0000
TZNAME:GMT
DTSTART:20221030T010000
END:STANDARD
BEGIN:DAYLIGHT
TZOFFSETFROM:+0000
TZOFFSETTO:+0100
TZNAME:BST
DTSTART:20230326T010000
END:DAYLIGHT
BEGIN:STANDARD
TZOFFSETFROM:+0100
TZOFFSETTO:+0000
TZNAME:GMT
DTSTART:20231029T010000
END:STANDARD
BEGIN:DAYLIGHT
TZOFFSETFROM:+0000
TZOFFSETTO:+0100
TZNAME:BST
DTSTART:20240331T010000
END:DAYLIGHT
BEGIN:STANDARD
TZOFFSETFROM:+0100
TZOFFSETTO:+0000
TZNAME:GMT
DTSTART:20241027T010000
END:STANDARD
END:VTIMEZONE
BEGIN:VEVENT
DTSTART;TZID=Europe/London:20230103T100000
DTEND;TZID=Europe/London:20230106T160000
DTSTAMP:20260423T161735
CREATED:20220609T164400Z
LAST-MODIFIED:20220609T164400Z
UID:14334-1672740000-1673020800@cookhamartsclub.com
SUMMARY:Exhibition - Elizabeth House
DESCRIPTION:Open daily 10am – 12pm \nClosed for lunch and then open 2pm – 4pm \nFriday 10am -12pm Closed for lunch and then open 2pm – 3pm
URL:https://cookhamartsclub.com/event/exhibition-elizabeth-house-4/
LOCATION:Elizabeth House\, Station Hill\, Cookham\, Berkshire\, SL6 9BS\, United Kingdom
CATEGORIES:Exhibition
ATTACH;FMTTYPE=image/png:https://cookhamartsclub.com/wp-content/uploads/2022/06/Screenshot-2022-06-09-at-17.30.03.png
END:VEVENT
END:VCALENDAR